BEGIN:VCALENDAR
VERSION:2.0
PRODID:-//Rebecca Creek Baptist Church - ECPv6.15.20//NONSGML v1.0//EN
CALSCALE:GREGORIAN
METHOD:PUBLISH
X-ORIGINAL-URL:https://rebeccacreek.org
X-WR-CALDESC:Events for Rebecca Creek Baptist Church
REFRESH-INTERVAL;VALUE=DURATION:PT1H
X-Robots-Tag:noindex
X-PUBLISHED-TTL:PT1H
BEGIN:VTIMEZONE
TZID:America/Chicago
BEGIN:DAYLIGHT
TZOFFSETFROM:-0600
TZOFFSETTO:-0500
TZNAME:CDT
DTSTART:20220313T080000
END:DAYLIGHT
BEGIN:STANDARD
TZOFFSETFROM:-0500
TZOFFSETTO:-0600
TZNAME:CST
DTSTART:20221106T070000
END:STANDARD
BEGIN:DAYLIGHT
TZOFFSETFROM:-0600
TZOFFSETTO:-0500
TZNAME:CDT
DTSTART:20230312T080000
END:DAYLIGHT
BEGIN:STANDARD
TZOFFSETFROM:-0500
TZOFFSETTO:-0600
TZNAME:CST
DTSTART:20231105T070000
END:STANDARD
BEGIN:DAYLIGHT
TZOFFSETFROM:-0600
TZOFFSETTO:-0500
TZNAME:CDT
DTSTART:20240310T080000
END:DAYLIGHT
BEGIN:STANDARD
TZOFFSETFROM:-0500
TZOFFSETTO:-0600
TZNAME:CST
DTSTART:20241103T070000
END:STANDARD
END:VTIMEZONE
BEGIN:VEVENT
DTSTART;TZID=America/Chicago:20230320T190000
DTEND;TZID=America/Chicago:20230320T210000
DTSTAMP:20260423T132218
CREATED:20230207T224141Z
LAST-MODIFIED:20230207T224141Z
UID:10000135-1679338800-1679346000@rebeccacreek.org
SUMMARY:Heart to Heart Ladies Missionary Circle
DESCRIPTION:All ladies are invited to attend.  We will hear about our missionary’s special prayer requests\, be in prayer for them and have a special time of fellowship.
URL:https://rebeccacreek.org/event/heart-to-heart-ladies-missionary-circle-6/
END:VEVENT
END:VCALENDAR