BEGIN:VCALENDAR
VERSION:2.0
PRODID:-//Rebecca Creek Baptist Church - ECPv6.15.20//NONSGML v1.0//EN
CALSCALE:GREGORIAN
METHOD:PUBLISH
X-WR-CALNAME:Rebecca Creek Baptist Church
X-ORIGINAL-URL:https://rebeccacreek.org
X-WR-CALDESC:Events for Rebecca Creek Baptist Church
REFRESH-INTERVAL;VALUE=DURATION:PT1H
X-Robots-Tag:noindex
X-PUBLISHED-TTL:PT1H
BEGIN:VTIMEZONE
TZID:America/Chicago
BEGIN:DAYLIGHT
TZOFFSETFROM:-0600
TZOFFSETTO:-0500
TZNAME:CDT
DTSTART:20220313T080000
END:DAYLIGHT
BEGIN:STANDARD
TZOFFSETFROM:-0500
TZOFFSETTO:-0600
TZNAME:CST
DTSTART:20221106T070000
END:STANDARD
BEGIN:DAYLIGHT
TZOFFSETFROM:-0600
TZOFFSETTO:-0500
TZNAME:CDT
DTSTART:20230312T080000
END:DAYLIGHT
BEGIN:STANDARD
TZOFFSETFROM:-0500
TZOFFSETTO:-0600
TZNAME:CST
DTSTART:20231105T070000
END:STANDARD
BEGIN:DAYLIGHT
TZOFFSETFROM:-0600
TZOFFSETTO:-0500
TZNAME:CDT
DTSTART:20240310T080000
END:DAYLIGHT
BEGIN:STANDARD
TZOFFSETFROM:-0500
TZOFFSETTO:-0600
TZNAME:CST
DTSTART:20241103T070000
END:STANDARD
END:VTIMEZONE
BEGIN:VEVENT
DTSTART;TZID=America/Chicago:20230402T110000
DTEND;TZID=America/Chicago:20230402T123000
DTSTAMP:20260423T102137
CREATED:20230207T224514Z
LAST-MODIFIED:20230207T224514Z
UID:10000138-1680433200-1680438600@rebeccacreek.org
SUMMARY:Dr. Rick Brann - Guest Speaker
DESCRIPTION:Dr. Rick Brann will be our special guest speaker on this date.  Come be blessed.
URL:https://rebeccacreek.org/event/dr-rick-brann-guest-speaker/
END:VEVENT
BEGIN:VEVENT
DTSTART;TZID=America/Chicago:20230407T183000
DTEND;TZID=America/Chicago:20230407T203000
DTSTAMP:20260423T102137
CREATED:20230207T224734Z
LAST-MODIFIED:20230407T194837Z
UID:10000139-1680892200-1680899400@rebeccacreek.org
SUMMARY:Heart to Heart Missionary Circle Cake Bake-Off Fundraiser
DESCRIPTION:Come for a fun filled night at the Ladies Heart to Heart Missionary Circle Fundraiser.  We will be raising a special offering for one of our missionaries.  This night will be filled with food\, laughter and a cake bake-off competition between all the men.  You do not want to miss it!
URL:https://rebeccacreek.org/event/heart-to-heart-missionary-circle-cake-bake-off-fundraiser/
END:VEVENT
BEGIN:VEVENT
DTSTART;TZID=America/Chicago:20230415T080000
DTEND;TZID=America/Chicago:20230415T150000
DTSTAMP:20260423T102137
CREATED:20230207T224853Z
LAST-MODIFIED:20230207T224853Z
UID:10000140-1681545600-1681570800@rebeccacreek.org
SUMMARY:Soldiers of the Cross Youth Rally
DESCRIPTION:All teens are welcome\, ages 7th grade through 12th grade. \nSee Efren Collier\, Youth Pastor for more details.
URL:https://rebeccacreek.org/event/soldiers-of-the-cross-youth-rally-4/
END:VEVENT
BEGIN:VEVENT
DTSTART;TZID=America/Chicago:20230416T190000
DTEND;TZID=America/Chicago:20230416T193000
DTSTAMP:20260423T102137
CREATED:20230207T224921Z
LAST-MODIFIED:20230207T224921Z
UID:10000141-1681671600-1681673400@rebeccacreek.org
SUMMARY:Business Meeting
DESCRIPTION:
URL:https://rebeccacreek.org/event/business-meeting-3/
END:VEVENT
END:VCALENDAR